BEGIN:VCALENDAR
VERSION:2.0
PRODID:icalendar-ruby
CALSCALE:GREGORIAN
METHOD:PUBLISH
BEGIN:VEVENT
DTSTAMP:20260422T215134Z
UID:9-1412113@patersoncog.com
DTSTART:20261012T230000Z
DTEND:20261013T003000Z
CLASS:PUBLIC
CREATED:20260422T161653
DESCRIPTION:
LAST-MODIFIED:20260422T161653
LOCATION:In the Sanctuary at Paterson Church of God
SUMMARY:Intercessory Prayer
URL;VALUE=URI:https://www.patersoncog.com/events/intercessory-prayer/2026-1
 0-12
ATTACH;FILENAME=1.png;FMTTYPE=image/png:https://dq5pwpg1q8ru0.cloudfront.ne
 t/2024/08/16/01/41/57/e54935c7-4da7-439a-b1bd-b80a753ea54d/1.png
END:VEVENT
END:VCALENDAR
